BEGIN:VCALENDAR
PRODID:-//Mozilla.org/NONSGML Mozilla Calendar V1.1//EN
VERSION:2.0
BEGIN:VEVENT
UID:69e8d23a786b8
DTSTAMP:20260422T135050Z
DTSTART:20220207T100000Z
DTEND:20220208T100000Z
SUMMARY:Demo calendar event for Lookatmedia™

DESCRIPTION:This is an example of what an event looks like when a journalist uses the 'save the date' feature in Lookatmedia™.

END:VEVENT
END:VCALENDAR